BEGIN:VCALENDAR
VERSION:2.0
PRODID:-//MO SRZ Rohožník - ECPv6.15.18//NONSGML v1.0//EN
CALSCALE:GREGORIAN
METHOD:PUBLISH
X-WR-CALNAME:MO SRZ Rohožník
X-ORIGINAL-URL:https://srzrohoznik.sk
X-WR-CALDESC:Udalosti pre MO SRZ Rohožník
REFRESH-INTERVAL;VALUE=DURATION:PT1H
X-Robots-Tag:noindex
X-PUBLISHED-TTL:PT1H
BEGIN:VTIMEZONE
TZID:Europe/Bratislava
BEGIN:DAYLIGHT
TZOFFSETFROM:+0100
TZOFFSETTO:+0200
TZNAME:CEST
DTSTART:20210328T010000
END:DAYLIGHT
BEGIN:STANDARD
TZOFFSETFROM:+0200
TZOFFSETTO:+0100
TZNAME:CET
DTSTART:20211031T010000
END:STANDARD
BEGIN:DAYLIGHT
TZOFFSETFROM:+0100
TZOFFSETTO:+0200
TZNAME:CEST
DTSTART:20220327T010000
END:DAYLIGHT
BEGIN:STANDARD
TZOFFSETFROM:+0200
TZOFFSETTO:+0100
TZNAME:CET
DTSTART:20221030T010000
END:STANDARD
BEGIN:DAYLIGHT
TZOFFSETFROM:+0100
TZOFFSETTO:+0200
TZNAME:CEST
DTSTART:20230326T010000
END:DAYLIGHT
BEGIN:STANDARD
TZOFFSETFROM:+0200
TZOFFSETTO:+0100
TZNAME:CET
DTSTART:20231029T010000
END:STANDARD
BEGIN:DAYLIGHT
TZOFFSETFROM:+0100
TZOFFSETTO:+0200
TZNAME:CEST
DTSTART:20240331T010000
END:DAYLIGHT
BEGIN:STANDARD
TZOFFSETFROM:+0200
TZOFFSETTO:+0100
TZNAME:CET
DTSTART:20241027T010000
END:STANDARD
BEGIN:DAYLIGHT
TZOFFSETFROM:+0100
TZOFFSETTO:+0200
TZNAME:CEST
DTSTART:20250330T010000
END:DAYLIGHT
BEGIN:STANDARD
TZOFFSETFROM:+0200
TZOFFSETTO:+0100
TZNAME:CET
DTSTART:20251026T010000
END:STANDARD
END:VTIMEZONE
BEGIN:VEVENT
DTSTART;TZID=Europe/Bratislava:20240309T090000
DTEND;TZID=Europe/Bratislava:20240309T120000
DTSTAMP:20260420T024226
CREATED:20240304T091734Z
LAST-MODIFIED:20240304T091734Z
UID:1378-1709974800-1709985600@srzrohoznik.sk
SUMMARY:Brigáda 9.3.2024
DESCRIPTION:V sobotu 9.3.2024 o 9:00 sa bude konať brigáda členov MO SRZ Rohožník. Stretnutie na rašeline o 9:00. Ak môžete prineste si aj krovinorez.
URL:https://srzrohoznik.sk/event/brigada-9-3-2024/
ATTACH;FMTTYPE=image/jpeg:https://srzrohoznik.sk/wp-content/uploads/2022/03/cropped-cropped-raselina_old.jpeg
END:VEVENT
BEGIN:VEVENT
DTSTART;TZID=Europe/Bratislava:20240224T140000
DTEND;TZID=Europe/Bratislava:20240224T170000
DTSTAMP:20260420T024226
CREATED:20240220T205824Z
LAST-MODIFIED:20240220T205824Z
UID:1373-1708783200-1708794000@srzrohoznik.sk
SUMMARY:Predaj rybárskych povolení na rok 2024 – 24.2.2024
DESCRIPTION:Podmienkou vydania rybárskeho povolenia na rok 2024 je: \n\nOdovzdanie vyplneného úlovkového lístku z roku 2023 (neplatí pre nových členov). V prípade neodovzdania v termíne bude upatnená pokuta.\nPlatný rybársky lístok (možné zakúpiť na obecnom úrade v čase úradných hodín)\nČlenská legimtimácia (neplatí pre nových členov)\nČlenský poplatok je nutné zaplatiť do 31.3.2024
URL:https://srzrohoznik.sk/event/predaj-rybarskych-povoleni-na-rok-2024-24-2-2024/
LOCATION:Rašelina Rohožník\, 90638\, Slovenská republika
END:VEVENT
BEGIN:VEVENT
DTSTART;TZID=Europe/Bratislava:20240216T080000
DTEND;TZID=Europe/Bratislava:20240216T170000
DTSTAMP:20260420T024226
CREATED:20240216T104610Z
LAST-MODIFIED:20240216T104610Z
UID:1370-1708070400-1708102800@srzrohoznik.sk
SUMMARY:Školenie nových členov
DESCRIPTION:Túto nedeľu 18.2.2024 o 10:00\, sa bude konať školenie nových členov v RD na Rašeline.
URL:https://srzrohoznik.sk/event/skolenie-novych-clenov/
END:VEVENT
BEGIN:VEVENT
DTSTART;TZID=Europe/Bratislava:20240127T130000
DTEND;TZID=Europe/Bratislava:20240127T160000
DTSTAMP:20260420T024226
CREATED:20240122T190826Z
LAST-MODIFIED:20240122T190826Z
UID:1357-1706360400-1706371200@srzrohoznik.sk
SUMMARY:Predaj rybárskych povolení na rok 2024 – 27.1.2024
DESCRIPTION:Podmienkou vydania rybárskeho povolenia na rok 2024 je: \n\nOdovzdanie vyplneného úlovkového lístku z roku 2023 (neplatí pre nových členov). V prípade neodovzdania v termíne bude upatnená pokuta.\nPlatný rybársky lístok (možné zakúpiť na obecnom úrade v čase úradných hodín)\nČlenská legimtimácia (neplatí pre nových členov)
URL:https://srzrohoznik.sk/event/predaj-rybarskych-povoleni-na-rok-2024-27-1-2024/
LOCATION:Rašelina Rohožník\, 90638\, Slovenská republika
END:VEVENT
BEGIN:VEVENT
DTSTART;TZID=Europe/Bratislava:20240127T090000
DTEND;TZID=Europe/Bratislava:20240127T120000
DTSTAMP:20260420T024226
CREATED:20240122T074943Z
LAST-MODIFIED:20240122T074943Z
UID:1352-1706346000-1706356800@srzrohoznik.sk
SUMMARY:Brigáda 27.1.2024 o 9:00
DESCRIPTION:MO SRZ Rohožník oznamuje svojím členom\, že 27.1.2024\, bude prebiehať brigáda na Rašeline. ( príprava na obecnú zabíjačku )
URL:https://srzrohoznik.sk/event/brigada-27-1-2024-o-900/
LOCATION:Rašelina Rohožník\, 90638\, Slovenská republika
END:VEVENT
BEGIN:VEVENT
DTSTART;TZID=Europe/Bratislava:20240113T130000
DTEND;TZID=Europe/Bratislava:20240113T160000
DTSTAMP:20260420T024226
CREATED:20240110T125931Z
LAST-MODIFIED:20240122T125624Z
UID:1349-1705150800-1705161600@srzrohoznik.sk
SUMMARY:Predaj rybárskych povolení na rok 2024 – 13.1.2024
DESCRIPTION:Podmienkou vydania rybárskeho povolenia na rok 2024 je: \n\nOdovzdanie vyplneného úlovkového lístku z roku 2023 (neplatí pre nových členov)\nPlatný rybársky lístok (možné zakúpiť na obecnom úrade v čase úradných hodín)\nČlenská legimtimácia (neplatí pre nových členov)
URL:https://srzrohoznik.sk/event/predaj-rybarskych-povoleni-na-rok-2024-13-1-2024/
LOCATION:Rašelina Rohožník\, 90638\, Slovenská republika
END:VEVENT
BEGIN:VEVENT
DTSTART;TZID=Europe/Bratislava:20240105T150000
DTEND;TZID=Europe/Bratislava:20240105T180000
DTSTAMP:20260420T024226
CREATED:20240102T182121Z
LAST-MODIFIED:20240102T182733Z
UID:1339-1704466800-1704477600@srzrohoznik.sk
SUMMARY:Predaj rybárskych povolení na rok 2024 - 5.1.2024
DESCRIPTION:Podmienkou vydania rybárskeho povolenia na rok 2024 je: \n\nOdovzdanie vyplneného úlovkového lístku z roku 2023 (neplatí pre nových členov)\nPlatný rybársky lístok (možné zakúpiť na obecnom úrade v čase úradných hodín)\nČlenská legimtimácia (neplatí pre nových členov)\n\n 
URL:https://srzrohoznik.sk/event/predaj-rybarskych-povoleni-na-rok-2024-5-1-2024/
LOCATION:Rašelina Rohožník\, 90638\, Slovenská republika
END:VEVENT
BEGIN:VEVENT
DTSTART;TZID=Europe/Bratislava:20231230T140000
DTEND;TZID=Europe/Bratislava:20231230T170000
DTSTAMP:20260420T024226
CREATED:20231228T085144Z
LAST-MODIFIED:20231228T125324Z
UID:1330-1703944800-1703955600@srzrohoznik.sk
SUMMARY:Predaj rybárskych povolení na rok 2024
DESCRIPTION:Podmienkou vydania rybárskeho povolenia na rok 2024 je: \n\nOdovzdanie vyplneného úlovkového lístku z roku 2023 (neplatí pre nových členov)\nPlatný rybársky lístok (možné zakúpiť na obecnom úrade v čase úradných hodín)\nČlenská legimtimácia (neplatí pre nových členov)\n\n 
URL:https://srzrohoznik.sk/event/predajnrybarskych-povoleni-na-rok-2024/
LOCATION:Rašelina Rohožník\, 90638\, Slovenská republika
END:VEVENT
BEGIN:VEVENT
DTSTART;VALUE=DATE:20231006
DTEND;VALUE=DATE:20231009
DTSTAMP:20260420T024226
CREATED:20231003T081533Z
LAST-MODIFIED:20231003T081622Z
UID:1306-1696550400-1696809599@srzrohoznik.sk
SUMMARY:Charita carp - rybárske preteky
DESCRIPTION:Tradičné rybárske preteky na rybníku Ílovisko Rohožník.
URL:https://srzrohoznik.sk/event/charita-carp-rybarske-preteky/
LOCATION:Ilovisko Rohožník
CATEGORIES:Preteky
ATTACH;FMTTYPE=image/jpeg:https://srzrohoznik.sk/wp-content/uploads/2023/01/CharitaCarp2023.jpeg
END:VEVENT
BEGIN:VEVENT
DTSTART;TZID=Europe/Bratislava:20230603T060000
DTEND;TZID=Europe/Bratislava:20230603T120000
DTSTAMP:20260420T024226
CREATED:20230112T182506Z
LAST-MODIFIED:20230112T182506Z
UID:1158-1685772000-1685793600@srzrohoznik.sk
SUMMARY:Detske rybárske preteky k MDD
DESCRIPTION:pravidelné detské rybárske preteky pri príležitosti Medzinárodného dňa detí
URL:https://srzrohoznik.sk/event/detske-rybarske-preteky-k-mdd/
LOCATION:Rašelina Rohožník\, 90638\, Slovenská republika
CATEGORIES:Preteky
END:VEVENT
BEGIN:VEVENT
DTSTART;TZID=Europe/Bratislava:20230527T080000
DTEND;TZID=Europe/Bratislava:20230527T170000
DTSTAMP:20260420T024226
CREATED:20230527T062628Z
LAST-MODIFIED:20230527T062628Z
UID:1254-1685174400-1685206800@srzrohoznik.sk
SUMMARY:Detské preteky
DESCRIPTION:
URL:https://srzrohoznik.sk/event/detske-preteky/
END:VEVENT
BEGIN:VEVENT
DTSTART;TZID=Europe/Bratislava:20230527T080000
DTEND;TZID=Europe/Bratislava:20230527T120000
DTSTAMP:20260420T024226
CREATED:20230920T100041Z
LAST-MODIFIED:20230920T095340Z
UID:1207-1685174400-1685188800@srzrohoznik.sk
SUMMARY:Brigáda - Rašelina Rohožník
DESCRIPTION:Oznamujeme \,všetkým členom konanie brigády v sobotu\, 23.9.2023. \nBrigáda pre členov MO SRZ Rohožník.\nStretnutie v rybárskom dvore na Rašeline o 8:00 hod. V prípade nepriaznivého počasia sledujte FB dáme bližšie info. \n 
URL:https://srzrohoznik.sk/event/brigada-raselina-rohoznik-3/
LOCATION:Rašelina Rohožník\, 90638\, Slovenská republika
END:VEVENT
BEGIN:VEVENT
DTSTART;TZID=Europe/Bratislava:20230501T060000
DTEND;TZID=Europe/Bratislava:20230501T120000
DTSTAMP:20260420T024226
CREATED:20230112T124327Z
LAST-MODIFIED:20230415T071433Z
UID:1128-1682920800-1682942400@srzrohoznik.sk
SUMMARY:Rybárske preteky 1.5.2023
DESCRIPTION:pravidelné rybárske preteky pre deti a dospelých\n\n \nOd 12.4.2023 začíname predpredaj lístkov na preteky dospelých u zástupcu rybárskeho hospodára Martina Želipského ( kontakt : 0902 470 293 ) a v predajni Hobby Malacky.\nDetské lístky sa budú predávať na mieste od 6:00.\nZakúpené lístky pre dospelých z nasledujúcim číslom budú mať miesto vedľa seba\, deti si budú môcť miesto lovu vybrať.\n„Petrov zdar“
URL:https://srzrohoznik.sk/event/rybarske-preteky-1-5-2023/
LOCATION:Rašelina Rohožník\, 90638\, Slovenská republika
END:VEVENT
BEGIN:VEVENT
DTSTART;VALUE=DATE:20230421
DTEND;VALUE=DATE:20230424
DTSTAMP:20260420T024226
CREATED:20230112T131959Z
LAST-MODIFIED:20230415T203742Z
UID:1140-1682035200-1682294399@srzrohoznik.sk
SUMMARY:Č&F carp cup
DESCRIPTION:Od 21.4.2023 9:00 začínajú na Konopiskách (1-0181-1-1) v Rohožníku rybárske preterky. Končiť budú v nedeľu 23.4.2023 o 13:00. Do vtedy je rybník uzatvorený pre bežný lov.\nPetrov zdar.
URL:https://srzrohoznik.sk/event/cf-carp-cup/
LOCATION:Ilovisko Rohožník
ORGANIZER;CN="CaF Carp Cup":MAILTO:filipossss77@gmail.com
END:VEVENT
BEGIN:VEVENT
DTSTART;TZID=Europe/Bratislava:20230406T160000
DTEND;TZID=Europe/Bratislava:20230409T120000
DTSTAMP:20260420T024226
CREATED:20230404T083428Z
LAST-MODIFIED:20230404T083428Z
UID:1232-1680796800-1681041600@srzrohoznik.sk
SUMMARY:CharitaCarp (6.4.2023-9.4.2023)
DESCRIPTION:Od 6.4.2023 16:00 začínajú na Konopiskách (1-0181-1-1) v Rohožníku rybárske preterky “CharitaCarp”. Končiť budú v nedeľu 9.4.2023 o 12:00. Do vtedy je rybník uzatvorený pre bežný lov.\nPetrov zdar.
URL:https://srzrohoznik.sk/event/charitacarp-6-4-2023-9-4-2023/
LOCATION:Ilovisko Rohožník
CATEGORIES:Preteky
END:VEVENT
BEGIN:VEVENT
DTSTART;VALUE=DATE:20230406
DTEND;VALUE=DATE:20230410
DTSTAMP:20260420T024226
CREATED:20230112T125605Z
LAST-MODIFIED:20230112T125605Z
UID:1135-1680739200-1681084799@srzrohoznik.sk
SUMMARY:Charita Carp Cup
DESCRIPTION:Rybársky maratón na rybníku Ílovisko Rohožník
URL:https://srzrohoznik.sk/event/charita-carp-cup/
LOCATION:Ilovisko Rohožník
ATTACH;FMTTYPE=image/jpeg:https://srzrohoznik.sk/wp-content/uploads/2023/01/CharitaCarp2023.jpeg
END:VEVENT
BEGIN:VEVENT
DTSTART;TZID=Europe/Bratislava:20230331T170000
DTEND;TZID=Europe/Bratislava:20230331T190000
DTSTAMP:20260420T024226
CREATED:20230213T220110Z
LAST-MODIFIED:20230213T220243Z
UID:1203-1680282000-1680289200@srzrohoznik.sk
SUMMARY:Predaj rybárskych povolení na rok2023
DESCRIPTION:Podmienkou kúpy nového povolenia je: \n\nOdovzdanie vyplneného úlovkového lístku z roku 2022 (neplatí pre nových členov)\nPlatný rybársky lístok (možné zakúpiť na obecnom úrade v čase úradných hodín)\nČlenská legimtimácia (neplatí pre nových členov)
URL:https://srzrohoznik.sk/event/predaj-rybaeskych-povoleni-na-rok2023/
LOCATION:Rašelina Rohožník\, 90638\, Slovenská republika
END:VEVENT
BEGIN:VEVENT
DTSTART;TZID=Europe/Bratislava:20230317T170000
DTEND;TZID=Europe/Bratislava:20230317T190000
DTSTAMP:20260420T024226
CREATED:20230213T220002Z
LAST-MODIFIED:20230213T220002Z
UID:1201-1679072400-1679079600@srzrohoznik.sk
SUMMARY:Predaj rybárskych povolení na rok 2023
DESCRIPTION:Podmienkou kúpy nového povolenia je: \n\nOdovzdanie vyplneného úlovkového lístku z roku 2022 (neplatí pre nových členov)\nPlatný rybársky lístok (možné zakúpiť na obecnom úrade v čase úradných hodín)\nČlenská legimtimácia (neplatí pre nových členov)
URL:https://srzrohoznik.sk/event/predaj-rybarskych-povoleni-na-rok-2023-2/
LOCATION:Rašelina Rohožník\, 90638\, Slovenská republika
END:VEVENT
BEGIN:VEVENT
DTSTART;TZID=Europe/Bratislava:20230312T090000
DTEND;TZID=Europe/Bratislava:20230312T130000
DTSTAMP:20260420T024226
CREATED:20230221T211736Z
LAST-MODIFIED:20230221T211736Z
UID:1211-1678611600-1678626000@srzrohoznik.sk
SUMMARY:Členská schôdza MO SRZ Rohožník 2023
DESCRIPTION:Pozývame všetkých členov na schôdzu Miestnej organizácie  Slovenského rybárskeho zväzu Rohožník\, ktorá sa bude konať  \n12.3.2023 od 9:00 v kinosále KD Rohožník. \nPripomíname\, že účasť na schôdzi je súčasťou povinných brigádnickych hodín. 
URL:https://srzrohoznik.sk/event/clenska-schodza-mo-srz-rohoznik-2023/
LOCATION:KD Rohožník
END:VEVENT
BEGIN:VEVENT
DTSTART;TZID=Europe/Bratislava:20230301T170000
DTEND;TZID=Europe/Bratislava:20230301T190000
DTSTAMP:20260420T024226
CREATED:20230213T215838Z
LAST-MODIFIED:20230213T215838Z
UID:1199-1677690000-1677697200@srzrohoznik.sk
SUMMARY:Predaj rybárskych povolení na rok 2023
DESCRIPTION:Podmienkou kúpy nového povolenia je: \n\nOdovzdanie vyplneného úlovkového lístku z roku 2022 (neplatí pre nových členov)\nPlatný rybársky lístok (možné zakúpiť na obecnom úrade v čase úradných hodín)\nČlenská legimtimácia (neplatí pre nových členov)
URL:https://srzrohoznik.sk/event/predaj-rybarskych-povoleni-na-rok-2023/
LOCATION:Rašelina Rohožník\, 90638\, Slovenská republika
END:VEVENT
BEGIN:VEVENT
DTSTART;TZID=Europe/Bratislava:20230225T163000
DTEND;TZID=Europe/Bratislava:20230225T193000
DTSTAMP:20260420T024226
CREATED:20230112T193928Z
LAST-MODIFIED:20230213T215426Z
UID:1165-1677342600-1677353400@srzrohoznik.sk
SUMMARY:Školenie nových členov SRZ Rohožník
DESCRIPTION:Presný čas školení pre nových členov bude oznámený formou SMS\, mailovej správy\, alebo na webovej a facebookovej stránke MO SRZ Rohožník. \nNový člen si môže zakúpiť povolenie na rybolov až po úspešnom absolvovaní školenia a testu.
URL:https://srzrohoznik.sk/event/skolenie-novych-clenov-srz-rohoznik-2/
LOCATION:Rašelina Rohožník\, 90638\, Slovenská republika
END:VEVENT
BEGIN:VEVENT
DTSTART;TZID=Europe/Bratislava:20230218T090000
DTEND;TZID=Europe/Bratislava:20230218T170000
DTSTAMP:20260420T024226
CREATED:20230202T191043Z
LAST-MODIFIED:20230207T110435Z
UID:1185-1676710800-1676739600@srzrohoznik.sk
SUMMARY:Rohožnícka Obecná zabíjačka 2023
DESCRIPTION:Znovu sa uvidíme na tradičnej rohožníckej obecnej zabíjačke v sobotu\, 18.2.2023. \nTento rok na novom mieste v areáli rohožníckeho múzea na dvore „Sýpky“. \nPrídte si pochutiť a nebojte sa\, tak ako ostatní aj my bude mať výrobky z prasiatka a nie z ryby. Tie budú na ďalších podujatiach (zoznam akcií MO SRZ Rohožník 2023) \nAj keď sa nás pravideľne návštevníci pýtajú na rybacie fašírky :-).
URL:https://srzrohoznik.sk/event/rohoznicka-obecna-zabijacka-2023/
LOCATION:Múzeum Rohožník
END:VEVENT
BEGIN:VEVENT
DTSTART;TZID=Europe/Bratislava:20230205T093000
DTEND;TZID=Europe/Bratislava:20230205T123000
DTSTAMP:20260420T024226
CREATED:20230112T193812Z
LAST-MODIFIED:20230202T093224Z
UID:1163-1675589400-1675600200@srzrohoznik.sk
SUMMARY:Školenie nových členov SRZ Rohožník
DESCRIPTION:Školenie a preskúšanie nových členov SRZ Rohožník. \nŠkolenie sa bude konať v ybárskom dome Rašelina Rohožník v čase od 9:30 do 12:30 a bude končiť testom. \nPrineste si so sebou pero a v prípade že už máte aj preukaz člena SRZ. \n*Novým členom bude zaslaná pozvánka s presným časom formou SMS.
URL:https://srzrohoznik.sk/event/skolenie-novych-clenov-srz-rohoznik/
LOCATION:Rašelina Rohožník\, 90638\, Slovenská republika
END:VEVENT
BEGIN:VEVENT
DTSTART;TZID=Europe/Bratislava:20230203T160000
DTEND;TZID=Europe/Bratislava:20230203T180000
DTSTAMP:20260420T024226
CREATED:20230112T154613Z
LAST-MODIFIED:20230112T154613Z
UID:1153-1675440000-1675447200@srzrohoznik.sk
SUMMARY:Predaj rybárskych povolení na r. 2023
DESCRIPTION:Podmienkou kúpy nového povolenia je: \n\nOdovzdanie vyplneného úlovkového lístku z roku 2022 (neplatí pre nových členov)\nPlatný rybársky lístok (možné zakúpiť na obecnom úrade v čase úradných hodín)\nČlenská legimtimácia (neplatí pre nových členov)
URL:https://srzrohoznik.sk/event/predaj-rybarskych-povoleni-na-r-2023-2/
LOCATION:Rašelina Rohožník\, 90638\, Slovenská republika
END:VEVENT
BEGIN:VEVENT
DTSTART;TZID=Europe/Bratislava:20230128T080000
DTEND;TZID=Europe/Bratislava:20230128T120000
DTSTAMP:20260420T024226
CREATED:20230112T124113Z
LAST-MODIFIED:20230112T124113Z
UID:1126-1674892800-1674907200@srzrohoznik.sk
SUMMARY:Brigáda - Rašelina Rohožník
DESCRIPTION:brigáda pre členov MO SRZ Rohožník
URL:https://srzrohoznik.sk/event/brigada-raselina-rohoznik-2/
LOCATION:Rašelina Rohožník\, 90638\, Slovenská republika
END:VEVENT
BEGIN:VEVENT
DTSTART;TZID=Europe/Bratislava:20230120T160000
DTEND;TZID=Europe/Bratislava:20230120T180000
DTSTAMP:20260420T024226
CREATED:20230112T153206Z
LAST-MODIFIED:20230112T154421Z
UID:1145-1674230400-1674237600@srzrohoznik.sk
SUMMARY:Predaj rybárskych povolení na r. 2023
DESCRIPTION:Podmienkou kúpy nového povolenia je: \n\nOdovzdanie vyplneného úlovkového lístku z roku 2022 (neplatí pre nových členov)\nPlatný rybársky lístok (možné zakúpiť na obecnom úrade v čase úradných hodín)\nČlenská legimtimácia (neplatí pre nových členov)
URL:https://srzrohoznik.sk/event/predaj-rybarskych-povoleni-na-r-2023/
END:VEVENT
BEGIN:VEVENT
DTSTART;TZID=Europe/Bratislava:20230114T080000
DTEND;TZID=Europe/Bratislava:20230114T120000
DTSTAMP:20260420T024226
CREATED:20230112T123745Z
LAST-MODIFIED:20230112T123745Z
UID:1123-1673683200-1673697600@srzrohoznik.sk
SUMMARY:Brigáda - Rašelina Rohožník
DESCRIPTION:brigáda pre členov MO SRZ Rohožník
URL:https://srzrohoznik.sk/event/brigada-raselina-rohoznik/
LOCATION:Rašelina Rohožník\, 90638\, Slovenská republika
END:VEVENT
BEGIN:VEVENT
DTSTART;VALUE=DATE:20220901
DTEND;VALUE=DATE:20220905
DTSTAMP:20260420T024226
CREATED:20220511T203748Z
LAST-MODIFIED:20220511T204118Z
UID:1066-1661990400-1662335999@srzrohoznik.sk
SUMMARY:Rybársky Maratón - Ílovisko
DESCRIPTION:Tradičný rybársky maratón Chyť a pusť
URL:https://srzrohoznik.sk/event/rybarsky-maraton-ilovisko/
LOCATION:Ilovisko Rohožník
END:VEVENT
END:VCALENDAR