BEGIN:VCALENDAR
VERSION:2.0
PRODID:-//MO SRZ Rohožník - ECPv6.15.18//NONSGML v1.0//EN
CALSCALE:GREGORIAN
METHOD:PUBLISH
X-WR-CALNAME:MO SRZ Rohožník
X-ORIGINAL-URL:https://srzrohoznik.sk
X-WR-CALDESC:Udalosti pre MO SRZ Rohožník
REFRESH-INTERVAL;VALUE=DURATION:PT1H
X-Robots-Tag:noindex
X-PUBLISHED-TTL:PT1H
BEGIN:VTIMEZONE
TZID:Europe/Bratislava
BEGIN:DAYLIGHT
TZOFFSETFROM:+0100
TZOFFSETTO:+0200
TZNAME:CEST
DTSTART:20250330T010000
END:DAYLIGHT
BEGIN:STANDARD
TZOFFSETFROM:+0200
TZOFFSETTO:+0100
TZNAME:CET
DTSTART:20251026T010000
END:STANDARD
BEGIN:DAYLIGHT
TZOFFSETFROM:+0100
TZOFFSETTO:+0200
TZNAME:CEST
DTSTART:20260329T010000
END:DAYLIGHT
BEGIN:STANDARD
TZOFFSETFROM:+0200
TZOFFSETTO:+0100
TZNAME:CET
DTSTART:20261025T010000
END:STANDARD
BEGIN:DAYLIGHT
TZOFFSETFROM:+0100
TZOFFSETTO:+0200
TZNAME:CEST
DTSTART:20270328T010000
END:DAYLIGHT
BEGIN:STANDARD
TZOFFSETFROM:+0200
TZOFFSETTO:+0100
TZNAME:CET
DTSTART:20271031T010000
END:STANDARD
END:VTIMEZONE
BEGIN:VEVENT
DTSTART;TZID=Europe/Bratislava:20260221T170000
DTEND;TZID=Europe/Bratislava:20260221T190000
DTSTAMP:20260419T173423
CREATED:20260127T173951Z
LAST-MODIFIED:20260127T173951Z
UID:1759-1771693200-1771700400@srzrohoznik.sk
SUMMARY:Školenie nových členov MO SRZ Rohožník
DESCRIPTION:Školenie a skúšky záujemcov o členstvo v MO SRZ Rohožník. \n\n\nŠkolenie a skúšky záujemcov o členstvo dospelých a detí v MO SRZ Rohožník sa bude konať v dňoch 21.2.2025\,  v čase od 17:00 hod v priestoroch Rybárskeho klubu Rašelina Rohožník. \nObsahom školenia a skúšky bude: \n\nZákony o rybolove a jeho vykonávacia vyhláška\nStanovy SRZ\nSpôsoby lovu rýb\, plávana\, feeder\, privlač\nOchrana rýb a hospodárenie\nAbsolvovanie skúšky\n\nSvoje znalosti bude záujemca o členstvo preukazovať formou testu alebo formou otázok. \nPri školení a prednáškach je potrebné\, aby bol prítomný aj zákonný zástupca (rodič) alebo príbuzný ! \nDoprovod nedospelého rybára\, ktorý nie je členom Slovenského rybárskeho zväzu a bude vykonávať dozor členovi do 15 rokov\, musí mať zakúpený rybársky lístok na Obecnom úrade.
URL:https://srzrohoznik.sk/event/skolenie-novych-clenov-mo-srz-rohoznik/
END:VEVENT
END:VCALENDAR