BEGIN:VCALENDAR
VERSION:2.0
PRODID:-//MO SRZ Rohožník - ECPv6.15.18//NONSGML v1.0//EN
CALSCALE:GREGORIAN
METHOD:PUBLISH
X-ORIGINAL-URL:https://srzrohoznik.sk
X-WR-CALDESC:Udalosti pre MO SRZ Rohožník
REFRESH-INTERVAL;VALUE=DURATION:PT1H
X-Robots-Tag:noindex
X-PUBLISHED-TTL:PT1H
BEGIN:VTIMEZONE
TZID:Europe/Bratislava
BEGIN:DAYLIGHT
TZOFFSETFROM:+0100
TZOFFSETTO:+0200
TZNAME:CEST
DTSTART:20240331T010000
END:DAYLIGHT
BEGIN:STANDARD
TZOFFSETFROM:+0200
TZOFFSETTO:+0100
TZNAME:CET
DTSTART:20241027T010000
END:STANDARD
BEGIN:DAYLIGHT
TZOFFSETFROM:+0100
TZOFFSETTO:+0200
TZNAME:CEST
DTSTART:20250330T010000
END:DAYLIGHT
BEGIN:STANDARD
TZOFFSETFROM:+0200
TZOFFSETTO:+0100
TZNAME:CET
DTSTART:20251026T010000
END:STANDARD
BEGIN:DAYLIGHT
TZOFFSETFROM:+0100
TZOFFSETTO:+0200
TZNAME:CEST
DTSTART:20260329T010000
END:DAYLIGHT
BEGIN:STANDARD
TZOFFSETFROM:+0200
TZOFFSETTO:+0100
TZNAME:CET
DTSTART:20261025T010000
END:STANDARD
END:VTIMEZONE
BEGIN:VEVENT
DTSTART;TZID=Europe/Bratislava:20250824T090000
DTEND;TZID=Europe/Bratislava:20250824T120000
DTSTAMP:20260420T044915
CREATED:20250813T105922Z
LAST-MODIFIED:20250813T105922Z
UID:1657-1756026000-1756036800@srzrohoznik.sk
SUMMARY:Brigáda na Konopiskách
DESCRIPTION:Milí rybári\, pozor!\nV nedelu 24. 8. 2025 • 9:00 na Konopiskách sa pustim e do cistenia dna rybníka od silónov a montází a kosenia brehov a lovných miest\, aby sme urobili prostredie bezpecnejsím a krajsím pre ryby aj nás. \n* Pocas prác bude lov rýb čiastone obmedzený. \nKto bude mat záujem pomôct v rámci brigády\, je srdečne vítaný. \nĎakujeme za pochopenie a spoluprácu! \n  \n  \n 
URL:https://srzrohoznik.sk/event/brigada-na-konopiskach/
LOCATION:Ilovisko Rohožník
END:VEVENT
BEGIN:VEVENT
DTSTART;TZID=Europe/Bratislava:20250829T120000
DTEND;TZID=Europe/Bratislava:20250901T120000
DTSTAMP:20260420T044915
CREATED:20250114T074548Z
LAST-MODIFIED:20250114T074548Z
UID:1519-1756468800-1756728000@srzrohoznik.sk
SUMMARY:Kaprársky maratón Ílovisko
DESCRIPTION:Tradičný kaprársky maratón na rybníku Ílovisko Konopiská
URL:https://srzrohoznik.sk/event/kaprarsky-maraton-ilovisko/
LOCATION:Ilovisko Rohožník
END:VEVENT
END:VCALENDAR