BEGIN:VCALENDAR
VERSION:2.0
PRODID:-//MO SRZ Rohožník - ECPv6.15.18//NONSGML v1.0//EN
CALSCALE:GREGORIAN
METHOD:PUBLISH
X-WR-CALNAME:MO SRZ Rohožník
X-ORIGINAL-URL:https://srzrohoznik.sk
X-WR-CALDESC:Udalosti pre MO SRZ Rohožník
REFRESH-INTERVAL;VALUE=DURATION:PT1H
X-Robots-Tag:noindex
X-PUBLISHED-TTL:PT1H
BEGIN:VTIMEZONE
TZID:Europe/Bratislava
BEGIN:DAYLIGHT
TZOFFSETFROM:+0100
TZOFFSETTO:+0200
TZNAME:CEST
DTSTART:20240331T010000
END:DAYLIGHT
BEGIN:STANDARD
TZOFFSETFROM:+0200
TZOFFSETTO:+0100
TZNAME:CET
DTSTART:20241027T010000
END:STANDARD
BEGIN:DAYLIGHT
TZOFFSETFROM:+0100
TZOFFSETTO:+0200
TZNAME:CEST
DTSTART:20250330T010000
END:DAYLIGHT
BEGIN:STANDARD
TZOFFSETFROM:+0200
TZOFFSETTO:+0100
TZNAME:CET
DTSTART:20251026T010000
END:STANDARD
BEGIN:DAYLIGHT
TZOFFSETFROM:+0100
TZOFFSETTO:+0200
TZNAME:CEST
DTSTART:20260329T010000
END:DAYLIGHT
BEGIN:STANDARD
TZOFFSETFROM:+0200
TZOFFSETTO:+0100
TZNAME:CET
DTSTART:20261025T010000
END:STANDARD
END:VTIMEZONE
BEGIN:VEVENT
DTSTART;TZID=Europe/Bratislava:20250501T070000
DTEND;TZID=Europe/Bratislava:20250501T130000
DTSTAMP:20260420T101652
CREATED:20250114T074144Z
LAST-MODIFIED:20250306T101212Z
UID:1515-1746082800-1746104400@srzrohoznik.sk
SUMMARY:Rybárske preteky 1.mája
DESCRIPTION:Tradičné rybárske preteky 1.mája na rybníkoch Rašelina Rohožník. \n– Dospelí „CHYŤ A PUSŤ“ – rybníky KUZMA\, KOSEK\, DETI – rybník KÚPALISKO\n– Deti si môžu privlastniť 1 rybu\n– Počet štartujúcich je limitovaný počtom lovných miest \nŠTARTOVNÉ – DOSPELÍ: 17\,-€\, DETI: 3\,-€ \nPredpredaj lístkov: Martin Želipský\, 0902 470 293 alebo v predajni Hobby Malacky\, Vlado Sabol.
URL:https://srzrohoznik.sk/event/rybarske-preteky-1-maja/
LOCATION:Rašelina Rohožník\, 90638\, Slovenská republika
END:VEVENT
BEGIN:VEVENT
DTSTART;TZID=Europe/Bratislava:20250531T070000
DTEND;TZID=Europe/Bratislava:20250531T130000
DTSTAMP:20260420T101652
CREATED:20250114T074336Z
LAST-MODIFIED:20250505T073842Z
UID:1517-1748674800-1748696400@srzrohoznik.sk
SUMMARY:Detské rybárske preteky - MDD
DESCRIPTION:Tradičné detské rybárske preteky pri príležitosti Medzinárodného dňa detí. \n  \n\nštartovné: 3\,-€\nloví sa na rybníku Rašelina 2\nsúťaží sa na počet ulovených rýb\nštartujúci si môže privlastniť jednu rybu\npredaj lístkov na mieste od 6:00\npreteky v čase 7:00 – 12:00\nvyhodnotenie 13:00\n\nVeľa hodnotných cien a výborné občerstvenie v bufete Raška. \nK účasti na pretekoch nie je potrebný rybársky lístok. \n 
URL:https://srzrohoznik.sk/event/detske-rybarske-preteky-mdd/
LOCATION:Rašelina Rohožník\, 90638\, Slovenská republika
END:VEVENT
END:VCALENDAR