BEGIN:VCALENDAR
VERSION:2.0
PRODID:-//MO SRZ Rohožník - ECPv6.15.18//NONSGML v1.0//EN
CALSCALE:GREGORIAN
METHOD:PUBLISH
X-ORIGINAL-URL:https://srzrohoznik.sk
X-WR-CALDESC:Udalosti pre MO SRZ Rohožník
REFRESH-INTERVAL;VALUE=DURATION:PT1H
X-Robots-Tag:noindex
X-PUBLISHED-TTL:PT1H
BEGIN:VTIMEZONE
TZID:Europe/Bratislava
BEGIN:DAYLIGHT
TZOFFSETFROM:+0100
TZOFFSETTO:+0200
TZNAME:CEST
DTSTART:20240331T010000
END:DAYLIGHT
BEGIN:STANDARD
TZOFFSETFROM:+0200
TZOFFSETTO:+0100
TZNAME:CET
DTSTART:20241027T010000
END:STANDARD
BEGIN:DAYLIGHT
TZOFFSETFROM:+0100
TZOFFSETTO:+0200
TZNAME:CEST
DTSTART:20250330T010000
END:DAYLIGHT
BEGIN:STANDARD
TZOFFSETFROM:+0200
TZOFFSETTO:+0100
TZNAME:CET
DTSTART:20251026T010000
END:STANDARD
BEGIN:DAYLIGHT
TZOFFSETFROM:+0100
TZOFFSETTO:+0200
TZNAME:CEST
DTSTART:20260329T010000
END:DAYLIGHT
BEGIN:STANDARD
TZOFFSETFROM:+0200
TZOFFSETTO:+0100
TZNAME:CET
DTSTART:20261025T010000
END:STANDARD
END:VTIMEZONE
BEGIN:VEVENT
DTSTART;TZID=Europe/Bratislava:20250427T090000
DTEND;TZID=Europe/Bratislava:20250427T120000
DTSTAMP:20260420T120307
CREATED:20250317T125628Z
LAST-MODIFIED:20250317T130209Z
UID:1631-1745744400-1745755200@srzrohoznik.sk
SUMMARY:Členská schôdza MO SRZ Rohožník 2025
DESCRIPTION:Program schôdze: \n\nOtvorenie schôdze\, privítanie hostí\nVoľba pracovných komisií\nSpráva o činnosti výboru MO SRZ za rok 2024\nSpráva vedúceho rybárskej stráže\nSpráva o hospodárení organizácie za rok 2024\nSpráva kontrolnej komisie\nSpráva rybárskeho hospodára za rok 2024\nVyhodnotenie plánu hlavných úloha za rok 2024\nPlán hlavných úloh na rok 2025\nNávrh rozpočtu na rok 2025\nPríhovor hostí\nDiskusia\nPredložen ie zápisnice mandátovej komisie\nNávrh na uznesenie z Členskej schôdze MO SRZ Rohožník\nZáver
URL:https://srzrohoznik.sk/event/clenska-schodza-mo-srz-rohoznik-2025/
LOCATION:KD Rohožník
END:VEVENT
END:VCALENDAR