BEGIN:VCALENDAR
VERSION:2.0
PRODID:-//MO SRZ Rohožník - ECPv6.15.18//NONSGML v1.0//EN
CALSCALE:GREGORIAN
METHOD:PUBLISH
X-ORIGINAL-URL:https://srzrohoznik.sk
X-WR-CALDESC:Udalosti pre MO SRZ Rohožník
REFRESH-INTERVAL;VALUE=DURATION:PT1H
X-Robots-Tag:noindex
X-PUBLISHED-TTL:PT1H
BEGIN:VTIMEZONE
TZID:Europe/Bratislava
BEGIN:DAYLIGHT
TZOFFSETFROM:+0100
TZOFFSETTO:+0200
TZNAME:CEST
DTSTART:20240331T010000
END:DAYLIGHT
BEGIN:STANDARD
TZOFFSETFROM:+0200
TZOFFSETTO:+0100
TZNAME:CET
DTSTART:20241027T010000
END:STANDARD
BEGIN:DAYLIGHT
TZOFFSETFROM:+0100
TZOFFSETTO:+0200
TZNAME:CEST
DTSTART:20250330T010000
END:DAYLIGHT
BEGIN:STANDARD
TZOFFSETFROM:+0200
TZOFFSETTO:+0100
TZNAME:CET
DTSTART:20251026T010000
END:STANDARD
BEGIN:DAYLIGHT
TZOFFSETFROM:+0100
TZOFFSETTO:+0200
TZNAME:CEST
DTSTART:20260329T010000
END:DAYLIGHT
BEGIN:STANDARD
TZOFFSETFROM:+0200
TZOFFSETTO:+0100
TZNAME:CET
DTSTART:20261025T010000
END:STANDARD
END:VTIMEZONE
BEGIN:VEVENT
DTSTART;TZID=Europe/Bratislava:20250329T163000
DTEND;TZID=Europe/Bratislava:20250329T180000
DTSTAMP:20260420T134422
CREATED:20250312T174157Z
LAST-MODIFIED:20250312T175051Z
UID:1605-1743265800-1743271200@srzrohoznik.sk
SUMMARY:Školenie nových členov SRZ Rohožník
DESCRIPTION:Školenie a skúšky záujemcov o členstvo v MO SRZ Rohožník. \n\n\nŠkolenie a skúšky záujemcov o členstvo deti v MO SRZ Rohožník sa budú konať v dňoch 29.3.2025\,  v čase 16:30 hod v priestoroch Rybárskeho klubu Rašelina Rohožník. \nObsahom školenia a skúšky bude: \n\nZákony o rybolove a jeho vykonávacia vyhláška\nStanovy SRZ\nSpôsoby lovu rýb\, plávana\, feeder\, privlač\nOchrana rýb a hospodárenie\nAbsolvovanie skúšky\n\nSvoje znalosti bude záujemca o členstvo preukazovať formou testu alebo formou otázok. \nPri školení a prednáškach je potrebné\, aby bol prítomný aj zákonný zástupca (rodič) alebo príbuzný ! \nDoprovod nedospelého rybára\, ktorý nie je členom Slovenského rybárskeho zväzu a bude vykonávať dozor členovi do 15 rokov\, musí mať zakúpený rybársky lístok na Obecnom úrade.
URL:https://srzrohoznik.sk/event/skolenie-novych-clenov-srz-rohoznik-3/
LOCATION:Rašelina Rohožník\, 90638\, Slovenská republika
END:VEVENT
END:VCALENDAR