BEGIN:VCALENDAR
VERSION:2.0
PRODID:-//MO SRZ Rohožník - ECPv6.15.18//NONSGML v1.0//EN
CALSCALE:GREGORIAN
METHOD:PUBLISH
X-WR-CALNAME:MO SRZ Rohožník
X-ORIGINAL-URL:https://srzrohoznik.sk
X-WR-CALDESC:Udalosti pre MO SRZ Rohožník
REFRESH-INTERVAL;VALUE=DURATION:PT1H
X-Robots-Tag:noindex
X-PUBLISHED-TTL:PT1H
BEGIN:VTIMEZONE
TZID:Europe/Bratislava
BEGIN:DAYLIGHT
TZOFFSETFROM:+0100
TZOFFSETTO:+0200
TZNAME:CEST
DTSTART:20230326T010000
END:DAYLIGHT
BEGIN:STANDARD
TZOFFSETFROM:+0200
TZOFFSETTO:+0100
TZNAME:CET
DTSTART:20231029T010000
END:STANDARD
BEGIN:DAYLIGHT
TZOFFSETFROM:+0100
TZOFFSETTO:+0200
TZNAME:CEST
DTSTART:20240331T010000
END:DAYLIGHT
BEGIN:STANDARD
TZOFFSETFROM:+0200
TZOFFSETTO:+0100
TZNAME:CET
DTSTART:20241027T010000
END:STANDARD
BEGIN:DAYLIGHT
TZOFFSETFROM:+0100
TZOFFSETTO:+0200
TZNAME:CEST
DTSTART:20250330T010000
END:DAYLIGHT
BEGIN:STANDARD
TZOFFSETFROM:+0200
TZOFFSETTO:+0100
TZNAME:CET
DTSTART:20251026T010000
END:STANDARD
END:VTIMEZONE
BEGIN:VEVENT
DTSTART;TZID=Europe/Bratislava:20240309T090000
DTEND;TZID=Europe/Bratislava:20240309T120000
DTSTAMP:20260421T122850
CREATED:20240304T091734Z
LAST-MODIFIED:20240304T091734Z
UID:1378-1709974800-1709985600@srzrohoznik.sk
SUMMARY:Brigáda 9.3.2024
DESCRIPTION:V sobotu 9.3.2024 o 9:00 sa bude konať brigáda členov MO SRZ Rohožník. Stretnutie na rašeline o 9:00. Ak môžete prineste si aj krovinorez.
URL:https://srzrohoznik.sk/event/brigada-9-3-2024/
ATTACH;FMTTYPE=image/jpeg:https://srzrohoznik.sk/wp-content/uploads/2022/03/cropped-cropped-raselina_old.jpeg
END:VEVENT
BEGIN:VEVENT
DTSTART;TZID=Europe/Bratislava:20240310T090000
DTEND;TZID=Europe/Bratislava:20240310T130000
DTSTAMP:20260421T122850
CREATED:20240130T123043Z
LAST-MODIFIED:20240130T123043Z
UID:1360-1710061200-1710075600@srzrohoznik.sk
SUMMARY:Členská schôdza MO SRZ Rohožník 10.3.2024
DESCRIPTION:Pozývame všetkých členov na schôdzu Miestnej organizácie  Slovenského rybárskeho zväzu Rohožník\, ktorá sa bude konať  \n10.3.2024 od 9:00 v kinosále KD Rohožník. \nPripomíname\, že účasť na schôdzi je súčasťou povinných brigádnickych hodín. 
URL:https://srzrohoznik.sk/event/clenska-schodza-mo-srz-rohoznik-10-3-2024/
LOCATION:KD Rohožník
END:VEVENT
BEGIN:VEVENT
DTSTART;TZID=Europe/Bratislava:20240330T130000
DTEND;TZID=Europe/Bratislava:20240330T150000
DTSTAMP:20260421T122850
CREATED:20240325T111011Z
LAST-MODIFIED:20240325T111210Z
UID:1394-1711803600-1711810800@srzrohoznik.sk
SUMMARY:Predaj povolení na rybolov na rok 2024
DESCRIPTION:Upozorňujeme členov MO SRZ Rohožník\, ktorí nemajú zaplatené členské na rok 2024\, že v sobotu 30.3.2024 v čase od 13:00 h do 15:00 h v Rybárskom dome Rašelina bude posledná možnosť zaplatenia členského príspevku pre rok 2024 a samozrejme aj zakúpenia povolenia na rybolov.\nUpozorňujeme\, že kto si v tomto termíne nezaplatí členský príspevok\, zanikne mu dňom 1.4.2024 členstvo v Slovenskom rybárskom zväze v zmysle § 10 ods. 1 písm. b/ Stanov SRZ.
URL:https://srzrohoznik.sk/event/preadj-povoleni-na-rybolov-na-rok-2024/
LOCATION:Rašelina Rohožník\, 90638\, Slovenská republika
END:VEVENT
END:VCALENDAR